BEGIN:VCALENDAR
VERSION:2.0
PRODID:-//Giving Women - ECPv6.15.20//NONSGML v1.0//EN
CALSCALE:GREGORIAN
METHOD:PUBLISH
X-WR-CALNAME:Giving Women
X-ORIGINAL-URL:https://givingwomen.org
X-WR-CALDESC:Events for Giving Women
REFRESH-INTERVAL;VALUE=DURATION:PT1H
X-Robots-Tag:noindex
X-PUBLISHED-TTL:PT1H
BEGIN:VTIMEZONE
TZID:UTC
BEGIN:STANDARD
TZOFFSETFROM:+0000
TZOFFSETTO:+0000
TZNAME:UTC
DTSTART:20230101T000000
END:STANDARD
END:VTIMEZONE
BEGIN:VEVENT
DTSTART;TZID=UTC:20241003T000000
DTEND;TZID=UTC:20241003T000000
DTSTAMP:20260421T023133
CREATED:20250929T100053Z
LAST-MODIFIED:20251009T121119Z
UID:10000073-1727913600-1727913600@givingwomen.org
SUMMARY:Giving Women Conference: Women at the Frontline of Climate Action and Innovation
DESCRIPTION:Join Giving Women on October 3rd\, as the women most affected by the climate crisis and environmental devastation lead the conversation and the action towards a sustainable future. Climate change disproportionately impacts women in underserved communities: droughts\, floods\, and desertification threaten their livelihoods\, food security\, access to water\, and forced migration. Many of them hold solutions rooted in tradition and community\, yet their voices are often absent from the climate conversations. In its 11th annual conference\, Giving Women will rewrite the narrative on climate change. Engage in a powerful dialogue with women on the frontlines\, NGOs\, activists\, and leaders as we uncover existing solutions and chart a path forward for a more sustainable future. \nWe’re bringing together a powerful force for change:\n-Women leading the fight: Hear directly from those on the frontlines\, finding solutions every day.\n-World-renowned experts: Learn from leading minds in climate action and discover existing solutions that work.\n-Action-oriented collaboration: Reflect\, strategise and identify gaps with all stakeholders – NGOs\, UN agencies\, philanthropists\, private sector leaders\, and foundations.\nTogether\, we will: \n-Shine a light on successful solutions ready for replication.\n-Bridge the gap between existing initiatives and new needs.\n-Chart a path forward to a more sustainable future.
URL:https://givingwomen.org/event/giving-women-conference-women-at-the-frontline-of-climate-action-and-innovation/
CATEGORIES:Workshop
ATTACH;FMTTYPE=image/jpeg:https://givingwomen.org/wp-content/uploads/2025/09/GWAC24.jpg
END:VEVENT
END:VCALENDAR