BEGIN:VCALENDAR
VERSION:2.0
PRODID:-//Giving Women - ECPv6.15.20//NONSGML v1.0//EN
CALSCALE:GREGORIAN
METHOD:PUBLISH
X-WR-CALNAME:Giving Women
X-ORIGINAL-URL:https://givingwomen.org
X-WR-CALDESC:Events for Giving Women
REFRESH-INTERVAL;VALUE=DURATION:PT1H
X-Robots-Tag:noindex
X-PUBLISHED-TTL:PT1H
BEGIN:VTIMEZONE
TZID:UTC
BEGIN:STANDARD
TZOFFSETFROM:+0000
TZOFFSETTO:+0000
TZNAME:UTC
DTSTART:20230101T000000
END:STANDARD
END:VTIMEZONE
BEGIN:VEVENT
DTSTART;TZID=UTC:20240516T000000
DTEND;TZID=UTC:20240516T000000
DTSTAMP:20260422T030124
CREATED:20250929T100111Z
LAST-MODIFIED:20251123T172352Z
UID:10000083-1715817600-1715817600@givingwomen.org
SUMMARY:Understanding Yourself As An Effective Listener and Communicator
DESCRIPTION:In the dynamic landscape of global projects\, the ability to truly listen and comprehend the needs of project owners is paramount. To achieve remarkable results we need to equip ourselves with skills to not just hear\, but to deeply understand the needs of our project owners and to collaborate within our teams. \nThis workshop goes beyond the mere theory of active listening; it’s a hands-on journey into effective communication. Through insightful discussions\, real-world examples extracted from ongoing projects and a look at your personal history with communication you’ll learn more about the art of active listening and empathetic understanding. \nUnderstanding that there’s no one-size-fits-all approach\, we guide you to explore your unique  style and provide personalized strategies for improvement. After all\, the key to becoming an exceptional listener lies with understanding yourself and your strengths and challenges. \nOur facilitators \nRenate Hauser has over 40 years of experience as a clinical psychiatrist and psychotherapist. She has taught counselling skills to students at university level and communication skills to junior doctors. \nCharlie Page is a Canadian trained teen and family psychotherapist and the founder of a youth and female empowerment FOPSE (for profit social enterprise) in Toronto. \nTogether they provide a fun and informative workshop specifically designed and geared toward Giving Women projects and the circles around them. They include Insights into their experiences of listening\, being heard and connecting with others in their psychotherapeutic practises and beyond.
URL:https://givingwomen.org/event/gw-workshop-understanding-yourself-as-an-effective-listener-communicator/
CATEGORIES:Workshop
ATTACH;FMTTYPE=image/jpeg:https://givingwomen.org/wp-content/uploads/2025/09/Workshop-on-Understanding-Yourself-As-An-Effective-Listener.jpg
END:VEVENT
END:VCALENDAR