BEGIN:VCALENDAR
VERSION:2.0
PRODID:-//Giving Women - ECPv6.15.20//NONSGML v1.0//EN
CALSCALE:GREGORIAN
METHOD:PUBLISH
X-ORIGINAL-URL:https://givingwomen.org
X-WR-CALDESC:Events for Giving Women
REFRESH-INTERVAL;VALUE=DURATION:PT1H
X-Robots-Tag:noindex
X-PUBLISHED-TTL:PT1H
BEGIN:VTIMEZONE
TZID:UTC
BEGIN:STANDARD
TZOFFSETFROM:+0000
TZOFFSETTO:+0000
TZNAME:UTC
DTSTART:20230101T000000
END:STANDARD
END:VTIMEZONE
BEGIN:VEVENT
DTSTART;TZID=UTC:20240208T000000
DTEND;TZID=UTC:20240208T000000
DTSTAMP:20260423T003316
CREATED:20250929T100116Z
LAST-MODIFIED:20251009T114129Z
UID:10000092-1707350400-1707350400@givingwomen.org
SUMMARY:GW Workshop: How to build a Fundraising Strategy
DESCRIPTION:Join us for an interactive fundraising workshop. Non-profits without a strategic fundraising plan often face unpredictable revenues\, missed opportunities\, and limited long-term vision. This workshop guides you through a step-by-step process and encourages reflective discussions about the future of your organisation. The workshop will help you create a robust fundraising strategy that is consistent with your goals using a template provided (CANVA). Abena Lauber will address key elements\, from analysing current activities to outlining a three-year budget and setting clear goals. Walk away not only with a way to build your strategy\, but also how to formulate actionable and measurable steps to improve your fundraising results. Don’t miss this chance to elevate your fundraising game! \n___________________ \nOUR FACILITATOR \nAbena Lauber\nAbena Lauber worked for Human Rights Watch\, notably organizing their annual gala and managing major donors. With 20 years of professional fundraising experience\, she founded a.Community in 2017\, providing tailored solutions to support organizations.  Abena has trained over 300 participants worldwide through online and in-person fundraising workshops she designed and co-designed. a.Community has worked with more than 50 clients for diverse sectors both in Switzerland and abroad.  She sits on the board of several Swiss non profit organizations\, and she is a visiting lecturer at the Haute Ecole de Gestion in Geneva for the CAS in Fundraising.
URL:https://givingwomen.org/event/gw-workshop-how-to-build-a-fundraising-strategy/
CATEGORIES:Workshop
ATTACH;FMTTYPE=image/jpeg:https://givingwomen.org/wp-content/uploads/2025/09/Workshop-on-How-to-build-a-Fundraising-Strategy.jpg
END:VEVENT
END:VCALENDAR