BEGIN:VCALENDAR
VERSION:2.0
PRODID:-//Giving Women - ECPv6.15.20//NONSGML v1.0//EN
CALSCALE:GREGORIAN
METHOD:PUBLISH
X-ORIGINAL-URL:https://givingwomen.org
X-WR-CALDESC:Events for Giving Women
REFRESH-INTERVAL;VALUE=DURATION:PT1H
X-Robots-Tag:noindex
X-PUBLISHED-TTL:PT1H
BEGIN:VTIMEZONE
TZID:UTC
BEGIN:STANDARD
TZOFFSETFROM:+0000
TZOFFSETTO:+0000
TZNAME:UTC
DTSTART:20220101T000000
END:STANDARD
END:VTIMEZONE
BEGIN:VEVENT
DTSTART;TZID=UTC:20231206T000000
DTEND;TZID=UTC:20231206T000000
DTSTAMP:20260423T110643
CREATED:20250929T100119Z
LAST-MODIFIED:20251009T133739Z
UID:10000096-1701820800-1701820800@givingwomen.org
SUMMARY:Giving Women Christmas Dinner in Zurich
DESCRIPTION:Join Giving Women members for a festive dinner at Restaurant Sham \nThis will be an informal opportunity to meet Giving Women members and learn more about the organisation. \nPlease RSVP by COB 5 December so we can make the appropriate reservation at the restaurant.
URL:https://givingwomen.org/event/giving-women-christmas-dinner-in-zurich/
ATTACH;FMTTYPE=image/jpeg:https://givingwomen.org/wp-content/uploads/2025/09/Christmas-Dinner-in-Zurich.jpg
END:VEVENT
END:VCALENDAR