BEGIN:VCALENDAR
VERSION:2.0
PRODID:-//Giving Women - ECPv6.15.20//NONSGML v1.0//EN
CALSCALE:GREGORIAN
METHOD:PUBLISH
X-ORIGINAL-URL:https://givingwomen.org
X-WR-CALDESC:Events for Giving Women
REFRESH-INTERVAL;VALUE=DURATION:PT1H
X-Robots-Tag:noindex
X-PUBLISHED-TTL:PT1H
BEGIN:VTIMEZONE
TZID:UTC
BEGIN:STANDARD
TZOFFSETFROM:+0000
TZOFFSETTO:+0000
TZNAME:UTC
DTSTART:20220101T000000
END:STANDARD
END:VTIMEZONE
BEGIN:VEVENT
DTSTART;TZID=UTC:20231102T000000
DTEND;TZID=UTC:20231102T000000
DTSTAMP:20260424T155304
CREATED:20250929T100131Z
LAST-MODIFIED:20251009T133822Z
UID:10000100-1698883200-1698883200@givingwomen.org
SUMMARY:New Member Autumn Onboarding Meeting
DESCRIPTION:For new Giving Women members\, \nWe would like to offer you the opportunity to get to know Giving Women better by attending an onboarding meeting either in-person on 2 November at 13:00 CET at our office in Geneva or via Zoom (details upon registration). There may be some of our new members are not so new and may have missed a previous onboarding so this is also your chance to join us. \nDuring the meeting\, you will get more information about Giving Women and how you can get involved. This is also an opportunity to meet other new Giving Women members.  The meeting will last 1 hour and you don’t need to prepare in any way. It will be quite informal with our operations manager\, Kathleen\, and Atalanti\, our Founder\, sharing about Giving Women and you will have the chance to ask questions. \nWe look forward to meeting you all.
URL:https://givingwomen.org/event/new-member-autumn-onboarding-meeting/
ATTACH;FMTTYPE=image/jpeg:https://givingwomen.org/wp-content/uploads/2025/09/New-Member-Onboarding-Nov-2023.jpg
END:VEVENT
END:VCALENDAR