BEGIN:VCALENDAR
VERSION:2.0
PRODID:-//Giving Women - ECPv6.15.20//NONSGML v1.0//EN
CALSCALE:GREGORIAN
METHOD:PUBLISH
X-WR-CALNAME:Giving Women
X-ORIGINAL-URL:https://givingwomen.org
X-WR-CALDESC:Events for Giving Women
REFRESH-INTERVAL;VALUE=DURATION:PT1H
X-Robots-Tag:noindex
X-PUBLISHED-TTL:PT1H
BEGIN:VTIMEZONE
TZID:UTC
BEGIN:STANDARD
TZOFFSETFROM:+0000
TZOFFSETTO:+0000
TZNAME:UTC
DTSTART:20220101T000000
END:STANDARD
END:VTIMEZONE
BEGIN:VEVENT
DTSTART;TZID=UTC:20231005T000000
DTEND;TZID=UTC:20231005T000000
DTSTAMP:20260424T130030
CREATED:20250929T100135Z
LAST-MODIFIED:20251009T104815Z
UID:10000103-1696464000-1696464000@givingwomen.org
SUMMARY:GW Workshop: Monitoring and Evaluation Clinic for Project Circles
DESCRIPTION:This clinic is to help our Project Circles understand the importance of Monitoring & Evaluation as a tool for accountability and learning. After a quick dive into the key elements of the M&E framework\, we will address challenges PCs might face in establishing their M&E system. We want this workshop to be as interactive and practically useful as possible. \n*This workshop is open to all GW members\, but please note it will be specifically targeting Project Circles. \n**If you are a current Project Owner and were unable to register to the workshop\, please contact us. \n___________________ \nOUR FACILITATORS \nElianna is an active giving women member and member of the executive committee. She has been working in the field of development for more than 15 years in direct programme implementation\, and more recently as a grant maker. Elianna has conducted many evaluations for Giving Women projects and sat on several project circles. \nSophie is an active giving women member and also sits on the executive committee. Sophie spent a decade building her career in London’s financial sector\, with expertise in Leveraged Finance later transitioning to private equity. Upon relocating to Switzerland\, she engaged in local volunteering activities and competitive ski touring races while raising her four children. In 2020\, Sophie Pelka co-founded the Give It Forward Trust (GIFT) with two partners. GIFT embodies her belief in the power of professionalized philanthropy to drive sustainable changes\, especially for women and girls.
URL:https://givingwomen.org/event/gw-workshop-monitoring-evaluation-clinic-for-project-circles/
CATEGORIES:Workshop
ATTACH;FMTTYPE=image/jpeg:https://givingwomen.org/wp-content/uploads/2025/09/workshop-on-monitoring-and-evaluation-for-project-circles.jpg
END:VEVENT
END:VCALENDAR