BEGIN:VCALENDAR
VERSION:2.0
PRODID:-//Giving Women - ECPv6.15.20//NONSGML v1.0//EN
CALSCALE:GREGORIAN
METHOD:PUBLISH
X-WR-CALNAME:Giving Women
X-ORIGINAL-URL:https://givingwomen.org
X-WR-CALDESC:Events for Giving Women
REFRESH-INTERVAL;VALUE=DURATION:PT1H
X-Robots-Tag:noindex
X-PUBLISHED-TTL:PT1H
BEGIN:VTIMEZONE
TZID:UTC
BEGIN:STANDARD
TZOFFSETFROM:+0000
TZOFFSETTO:+0000
TZNAME:UTC
DTSTART:20230101T000000
END:STANDARD
END:VTIMEZONE
BEGIN:VEVENT
DTSTART;TZID=UTC:20240415T000000
DTEND;TZID=UTC:20240415T000000
DTSTAMP:20260422T031105
CREATED:20250929T100112Z
LAST-MODIFIED:20251123T172440Z
UID:10000086-1713139200-1713139200@givingwomen.org
SUMMARY:2024 Project Evening (Members Only)
DESCRIPTION:Registration below!\n(This is a members-only event\, however\, if you are not a Giving Women member and wish to attend\, please send an email to kathleen.holmlund@givingwomen.ch \nDear Giving Women\, \nWe are delighted to invite you to our yearly: Giving Women 2024 Project Evening \nThis is your chance to get involved and actively support Giving Women projects!!! The Heart of what we do! \nWe look forward to seeing many of you in person at Atalanti’s home and online on Zoom (Access details will be provided when registration opens). \nFor members in the Zürich area\, more details will follow about a venue where members can meet in person \nWe are putting together an exciting programme for the evening with presentations from our new projects: Uganda Village Project\, Rwandan Organisation of Women with Disabilities\, Innovations for Development\, Let’s End Fistula Initiative\, Afghan Rayan Educational and Development Organization and Shared Action Africa. We will also be presenting some additional projects that will be ideal for mentorship.
URL:https://givingwomen.org/event/giving-women-2024-project-evening-members-only/
ATTACH;FMTTYPE=image/jpeg:https://givingwomen.org/wp-content/uploads/2025/09/Project-Circle-Evening-2024.jpg
END:VEVENT
BEGIN:VEVENT
DTSTART;TZID=UTC:20240423T000000
DTEND;TZID=UTC:20240423T000000
DTSTAMP:20260422T031105
CREATED:20250929T100111Z
LAST-MODIFIED:20251123T172422Z
UID:10000085-1713830400-1713830400@givingwomen.org
SUMMARY:Fundraising across borders
DESCRIPTION:Register below\nFundraising from other countries can be hugely beneficial as it opens up a larger network of potential donors and supporters. It can also be a trap for the unwary and unprepared as it can use up time and funds which could better be placed in elevating local fundraising. \nThis workshop will help you evaluate whether fundraising abroad is viable for your organisation\, what type of international fundraising you should contemplate\, where you should look for funding\, what steps are you need to take to make it happen and how to avoid costly mistakes. We will also look at some of the practical issues you will face such as tax and legal requirements and benefits to you and to donors; whether you need a separate legal entity abroad or whether an intermediary will work for you; and whether you need someone on the ground in the target country/ies. \nOur facilitator \nNancy Bikson is the Managing Director of Chapel & York. She is a lawyer with over 40 years’\nexperience providing advice to private clients and charities worldwide. She has lived in the United\nKingdom\, United States\, Australia and France and has worked with and for organisations across the\nworld in both legal and fundraising capacities\, specialising in cross-border work. She has a BA in\nLate Mediaeval English History\, a Juris Doctor degree and a LLM (Master of Laws Degree\, Tax). She\nis a member of the Richard III Society and lives in a house built in 1557.
URL:https://givingwomen.org/event/gw-workshop-fundraising-across-borders/
CATEGORIES:Workshop
ATTACH;FMTTYPE=image/jpeg:https://givingwomen.org/wp-content/uploads/2025/09/Workshop-on-Fundraising-across-borders.jpg
END:VEVENT
BEGIN:VEVENT
DTSTART;TZID=UTC:20240425T000000
DTEND;TZID=UTC:20240425T000000
DTSTAMP:20260422T031105
CREATED:20250929T100111Z
LAST-MODIFIED:20251123T172411Z
UID:10000084-1714003200-1714003200@givingwomen.org
SUMMARY:The Use of Data for Impact: Value and Challenges
DESCRIPTION:Please join us on 25 April for a Giving Women online lunchtime panel conversation on “The importance of Data for impact: the value and the challenges”. Everyone\, everywhere is madly collecting data\, but is all data useful and relevant? How can data improve the way practitioners implement programmes on the ground?  What are the challenges in gathering the right data\, analysing it in a way that is useful to achieve greater impact and become more effective and efficient practitioners? \nBeatrice Scarioni Founder and Partner at Dripstone Impact Consulting\, will moderate this vibrant discussion with practitioners: \nPrapti Bhasin: Chief Operation Officer at Aavishkaar\nHelen Davies\, Chief of Staff at Operation Fistula\nGauri Mahendra\, Co-founder of UMEED
URL:https://givingwomen.org/event/panel-conversation-the-use-of-data-for-impact-value-and-challenges/
CATEGORIES:Panel
ATTACH;FMTTYPE=image/jpeg:https://givingwomen.org/wp-content/uploads/2025/09/Panel-on-the-Use-of-Data-for-Impact.jpg
END:VEVENT
END:VCALENDAR